Package: MesKit Version: 1.17.0 Command: /home/biocbuild/bbs-3.21-bioc/R/bin/R CMD check --install=check:MesKit.install-out.txt --library=/home/biocbuild/bbs-3.21-bioc/R/site-library --timings MesKit_1.17.0.tar.gz StartedAt: 2025-02-12 23:55:07 -0500 (Wed, 12 Feb 2025) EndedAt: 2025-02-13 00:04:49 -0500 (Thu, 13 Feb 2025) EllapsedTime: 581.9 seconds RetCode: 0 Status: WARNINGS CheckDir: MesKit.Rcheck Warnings: 1