Package: MesKit Version: 1.17.0 Command: chmod a+r MesKit -R && E:\biocbuild\bbs-3.21-bioc\R\bin\R.exe CMD build --keep-empty-dirs --no-resave-data MesKit StartedAt: 2025-02-09 19:44:41 -0500 (Sun, 09 Feb 2025) EndedAt: 2025-02-09 19:46:39 -0500 (Sun, 09 Feb 2025) EllapsedTime: 117.5 seconds RetCode: 0 Status: OK PackageFile: MesKit_1.17.0.tar.gz PackageFileSize: 2.55 MiB