Package: MetID Version: 1.25.0 Command: /Library/Frameworks/R.framework/Resources/bin/R CMD check --install=check:MetID.install-out.txt --library=/Library/Frameworks/R.framework/Resources/library --no-vignettes --timings MetID_1.25.0.tar.gz StartedAt: 2025-02-09 20:04:35 -0500 (Sun, 09 Feb 2025) EndedAt: 2025-02-09 20:05:09 -0500 (Sun, 09 Feb 2025) EllapsedTime: 34.4 seconds RetCode: 0 Status: OK CheckDir: MetID.Rcheck Warnings: 0