Package: MetID Version: 1.25.0 Command: /home/biocbuild/R/R/bin/R CMD build --keep-empty-dirs --no-resave-data MetID StartedAt: 2025-01-29 00:16:49 -0000 (Wed, 29 Jan 2025) EndedAt: 2025-01-29 00:17:33 -0000 (Wed, 29 Jan 2025) EllapsedTime: 44.0 seconds RetCode: 0 Status: OK PackageFile: MetID_1.25.0.tar.gz PackageFileSize: 1.505 MiB