Package: MetID Version: 1.25.0 Command: /Library/Frameworks/R.framework/Resources/bin/R CMD build --keep-empty-dirs --no-resave-data MetID StartedAt: 2025-02-09 17:25:20 -0500 (Sun, 09 Feb 2025) EndedAt: 2025-02-09 17:25:56 -0500 (Sun, 09 Feb 2025) EllapsedTime: 36.5 seconds RetCode: 0 Status: OK PackageFile: MetID_1.25.0.tar.gz PackageFileSize: 1.504 MiB