Package: MetID Version: 1.25.0 Command: /Library/Frameworks/R.framework/Resources/bin/R CMD check --install=check:MetID.install-out.txt --library=/Library/Frameworks/R.framework/Resources/library --no-vignettes --timings MetID_1.25.0.tar.gz StartedAt: 2025-02-12 21:38:24 -0500 (Wed, 12 Feb 2025) EndedAt: 2025-02-12 21:40:00 -0500 (Wed, 12 Feb 2025) EllapsedTime: 96.4 seconds RetCode: 0 Status: OK CheckDir: MetID.Rcheck Warnings: 0