Package: MetID Version: 1.25.0 Command: /Library/Frameworks/R.framework/Resources/bin/R CMD INSTALL MetID StartedAt: 2025-02-09 15:40:04 -0500 (Sun, 09 Feb 2025) EndedAt: 2025-02-09 15:40:19 -0500 (Sun, 09 Feb 2025) EllapsedTime: 14.9 seconds RetCode: 0 Status: OK