Package: MetID Version: 1.25.0 Command: /home/biocbuild/bbs-3.21-bioc/R/bin/R CMD build --keep-empty-dirs --no-resave-data MetID StartedAt: 2025-02-09 18:05:26 -0500 (Sun, 09 Feb 2025) EndedAt: 2025-02-09 18:05:55 -0500 (Sun, 09 Feb 2025) EllapsedTime: 29.0 seconds RetCode: 0 Status: OK PackageFile: MetID_1.25.0.tar.gz PackageFileSize: 1.504 MiB