Package: MetID Version: 1.25.0 Command: rm -rf MetID.buildbin-libdir && mkdir MetID.buildbin-libdir && E:\biocbuild\bbs-3.21-bioc\R\bin\R.exe CMD INSTALL --build --library=MetID.buildbin-libdir MetID_1.25.0.tar.gz StartedAt: 2025-02-13 08:18:54 -0500 (Thu, 13 Feb 2025) EndedAt: 2025-02-13 08:19:11 -0500 (Thu, 13 Feb 2025) EllapsedTime: 16.8 seconds RetCode: 0 Status: OK PackageFile: MetID_1.25.0.zip PackageFileSize: 1.736 MiB