Package: MetID Version: 1.25.0 Command: chmod a+r MetID -R && E:\biocbuild\bbs-3.21-bioc\R\bin\R.exe CMD build --keep-empty-dirs --no-resave-data MetID StartedAt: 2025-02-09 19:51:46 -0500 (Sun, 09 Feb 2025) EndedAt: 2025-02-09 19:52:38 -0500 (Sun, 09 Feb 2025) EllapsedTime: 52.4 seconds RetCode: 0 Status: OK PackageFile: MetID_1.25.0.tar.gz PackageFileSize: 1.504 MiB