Package: MetID Version: 1.25.0 Command: E:\biocbuild\bbs-3.21-bioc\R\bin\R.exe CMD INSTALL MetID StartedAt: 2025-02-09 16:08:44 -0500 (Sun, 09 Feb 2025) EndedAt: 2025-02-09 16:09:05 -0500 (Sun, 09 Feb 2025) EllapsedTime: 20.9 seconds RetCode: 0 Status: OK