Package: MetMashR Version: 1.1.0 Command: /Library/Frameworks/R.framework/Resources/bin/R CMD build --keep-empty-dirs --no-resave-data MetMashR StartedAt: 2025-02-12 17:21:12 -0500 (Wed, 12 Feb 2025) EndedAt: 2025-02-12 17:27:11 -0500 (Wed, 12 Feb 2025) EllapsedTime: 359.0 seconds RetCode: 0 Status: OK PackageFile: MetMashR_1.1.0.tar.gz PackageFileSize: 6.194 MiB