Package: MetMashR Version: 1.1.0 Command: /home/biocbuild/bbs-3.21-bioc/R/bin/R CMD build --keep-empty-dirs --no-resave-data MetMashR StartedAt: 2025-02-09 18:05:33 -0500 (Sun, 09 Feb 2025) EndedAt: 2025-02-09 18:10:29 -0500 (Sun, 09 Feb 2025) EllapsedTime: 295.3 seconds RetCode: 0 Status: OK PackageFile: MetMashR_1.1.0.tar.gz PackageFileSize: 6.179 MiB