Package: MetMashR Version: 1.1.0 Command: /home/biocbuild/bbs-3.21-bioc/R/bin/R CMD INSTALL MetMashR StartedAt: 2025-02-12 15:31:48 -0500 (Wed, 12 Feb 2025) EndedAt: 2025-02-12 15:32:20 -0500 (Wed, 12 Feb 2025) EllapsedTime: 32.1 seconds RetCode: 0 Status: OK