Package: MetaCyto Version: 1.29.0 Command: rm -rf MetaCyto.buildbin-libdir && mkdir MetaCyto.buildbin-libdir && /Users/biocbuild/BBS/utils/build-universal.sh MetaCyto_1.29.0.tar.gz /Library/Frameworks/R.framework/Resources/bin/R MetaCyto.buildbin-libdir StartedAt: 2025-02-09 22:20:21 -0500 (Sun, 09 Feb 2025) EndedAt: 2025-02-09 22:20:28 -0500 (Sun, 09 Feb 2025) EllapsedTime: 6.2 seconds RetCode: 0 Status: OK PackageFile: MetaCyto_1.29.0.tgz PackageFileSize: 1.108 MiB