Package: MetaCyto Version: 1.29.0 Command: /Library/Frameworks/R.framework/Resources/bin/R CMD INSTALL MetaCyto StartedAt: 2025-02-09 15:28:09 -0500 (Sun, 09 Feb 2025) EndedAt: 2025-02-09 15:28:14 -0500 (Sun, 09 Feb 2025) EllapsedTime: 5.2 seconds RetCode: 0 Status: OK