Package: MetaCyto Version: 1.29.0 Command: /home/biocbuild/R/R/bin/R CMD build --keep-empty-dirs --no-resave-data MetaCyto StartedAt: 2025-01-29 00:08:46 -0000 (Wed, 29 Jan 2025) EndedAt: 2025-01-29 00:15:15 -0000 (Wed, 29 Jan 2025) EllapsedTime: 389.1 seconds RetCode: 0 Status: OK PackageFile: MetaCyto_1.29.0.tar.gz PackageFileSize: 987.1 KiB