Package: MetaCyto Version: 1.29.0 Command: rm -rf MetaCyto.buildbin-libdir && mkdir MetaCyto.buildbin-libdir && /Users/biocbuild/BBS/utils/build-universal.sh MetaCyto_1.29.0.tar.gz /Library/Frameworks/R.framework/Resources/bin/R MetaCyto.buildbin-libdir StartedAt: 2025-02-05 00:47:58 -0500 (Wed, 05 Feb 2025) EndedAt: 2025-02-05 00:48:19 -0500 (Wed, 05 Feb 2025) EllapsedTime: 21.0 seconds RetCode: 0 Status: OK PackageFile: MetaCyto_1.29.0.tgz PackageFileSize: 1.107 MiB