Package: MetaCyto Version: 1.29.0 Command: /Library/Frameworks/R.framework/Resources/bin/R CMD build --keep-empty-dirs --no-resave-data MetaCyto StartedAt: 2025-02-04 17:17:02 -0500 (Tue, 04 Feb 2025) EndedAt: 2025-02-04 17:20:35 -0500 (Tue, 04 Feb 2025) EllapsedTime: 213.2 seconds RetCode: 0 Status: OK PackageFile: MetaCyto_1.29.0.tar.gz PackageFileSize: 1.026 MiB