Package: MetaCyto Version: 1.29.0 Command: /Library/Frameworks/R.framework/Resources/bin/R CMD check --install=check:MetaCyto.install-out.txt --library=/Library/Frameworks/R.framework/Resources/library --no-vignettes --timings MetaCyto_1.29.0.tar.gz StartedAt: 2025-02-04 21:31:10 -0500 (Tue, 04 Feb 2025) EndedAt: 2025-02-04 21:37:01 -0500 (Tue, 04 Feb 2025) EllapsedTime: 351.8 seconds RetCode: 0 Status: OK CheckDir: MetaCyto.Rcheck Warnings: 0