Package: MetaCyto Version: 1.29.0 Command: /home/biocbuild/bbs-3.21-bioc/R/bin/R CMD build --keep-empty-dirs --no-resave-data MetaCyto StartedAt: 2025-02-04 17:58:34 -0500 (Tue, 04 Feb 2025) EndedAt: 2025-02-04 18:01:52 -0500 (Tue, 04 Feb 2025) EllapsedTime: 197.2 seconds RetCode: 0 Status: OK PackageFile: MetaCyto_1.29.0.tar.gz PackageFileSize: 1.019 MiB