Package: MetaCyto Version: 1.29.0 Command: /home/biocbuild/bbs-3.21-bioc/R/bin/R CMD INSTALL MetaCyto StartedAt: 2025-02-09 15:13:45 -0500 (Sun, 09 Feb 2025) EndedAt: 2025-02-09 15:13:59 -0500 (Sun, 09 Feb 2025) EllapsedTime: 14.0 seconds RetCode: 0 Status: OK