Package: MetaCyto Version: 1.29.0 Command: chmod a+r MetaCyto -R && E:\biocbuild\bbs-3.21-bioc\R\bin\R.exe CMD build --keep-empty-dirs --no-resave-data MetaCyto StartedAt: 2025-02-09 19:45:56 -0500 (Sun, 09 Feb 2025) EndedAt: 2025-02-09 19:51:46 -0500 (Sun, 09 Feb 2025) EllapsedTime: 349.8 seconds RetCode: 0 Status: OK PackageFile: MetaCyto_1.29.0.tar.gz PackageFileSize: 966.2 KiB