Package: MetaCyto Version: 1.29.0 Command: E:\biocbuild\bbs-3.21-bioc\R\bin\R.exe CMD check --no-multiarch --install=check:MetaCyto.install-out.txt --library=E:\biocbuild\bbs-3.21-bioc\R\library --no-vignettes --timings MetaCyto_1.29.0.tar.gz StartedAt: 2025-02-05 03:10:05 -0500 (Wed, 05 Feb 2025) EndedAt: 2025-02-05 03:18:34 -0500 (Wed, 05 Feb 2025) EllapsedTime: 509.4 seconds RetCode: 0 Status: OK CheckDir: MetaCyto.Rcheck Warnings: 0