Package: MetaCyto Version: 1.29.0 Command: E:\biocbuild\bbs-3.21-bioc\R\bin\R.exe CMD INSTALL MetaCyto StartedAt: 2025-02-04 16:53:41 -0500 (Tue, 04 Feb 2025) EndedAt: 2025-02-04 16:54:17 -0500 (Tue, 04 Feb 2025) EllapsedTime: 36.3 seconds RetCode: 0 Status: OK