Package: MetaNeighbor Version: 1.27.0 Command: rm -rf MetaNeighbor.buildbin-libdir && mkdir MetaNeighbor.buildbin-libdir && /Users/biocbuild/BBS/utils/build-universal.sh MetaNeighbor_1.27.0.tar.gz /Library/Frameworks/R.framework/Resources/bin/R MetaNeighbor.buildbin-libdir StartedAt: 2025-02-09 22:20:23 -0500 (Sun, 09 Feb 2025) EndedAt: 2025-02-09 22:20:26 -0500 (Sun, 09 Feb 2025) EllapsedTime: 3.1 seconds RetCode: 0 Status: OK PackageFile: MetaNeighbor_1.27.0.tgz PackageFileSize: 4.171 MiB