Package: MetaNeighbor Version: 1.27.0 Command: /home/biocbuild/bbs-3.21-bioc/R/bin/R CMD INSTALL MetaNeighbor StartedAt: 2025-02-12 15:20:33 -0500 (Wed, 12 Feb 2025) EndedAt: 2025-02-12 15:20:36 -0500 (Wed, 12 Feb 2025) EllapsedTime: 3.8 seconds RetCode: 0 Status: OK