Package: MetaNeighbor Version: 1.27.0 Command: rm -rf MetaNeighbor.buildbin-libdir && mkdir MetaNeighbor.buildbin-libdir && E:\biocbuild\bbs-3.21-bioc\R\bin\R.exe CMD INSTALL --build --library=MetaNeighbor.buildbin-libdir MetaNeighbor_1.27.0.tar.gz StartedAt: 2025-02-10 08:06:40 -0500 (Mon, 10 Feb 2025) EndedAt: 2025-02-10 08:07:06 -0500 (Mon, 10 Feb 2025) EllapsedTime: 26.5 seconds RetCode: 0 Status: OK PackageFile: MetaNeighbor_1.27.0.zip PackageFileSize: 4.172 MiB