Package: MetaNeighbor Version: 1.27.0 Command: chmod a+r MetaNeighbor -R && E:\biocbuild\bbs-3.21-bioc\R\bin\R.exe CMD build --keep-empty-dirs --no-resave-data MetaNeighbor StartedAt: 2025-02-09 19:46:34 -0500 (Sun, 09 Feb 2025) EndedAt: 2025-02-09 19:47:41 -0500 (Sun, 09 Feb 2025) EllapsedTime: 67.5 seconds RetCode: 0 Status: OK PackageFile: MetaNeighbor_1.27.0.tar.gz PackageFileSize: 3.197 MiB