Package: MetaNeighbor Version: 1.27.0 Command: E:\biocbuild\bbs-3.21-bioc\R\bin\R.exe CMD INSTALL MetaNeighbor StartedAt: 2025-02-09 16:21:53 -0500 (Sun, 09 Feb 2025) EndedAt: 2025-02-09 16:22:16 -0500 (Sun, 09 Feb 2025) EllapsedTime: 22.8 seconds RetCode: 0 Status: OK