Package: MetaPhOR Version: 1.9.0 Command: rm -rf MetaPhOR.buildbin-libdir && mkdir MetaPhOR.buildbin-libdir && /Users/biocbuild/BBS/utils/build-universal.sh MetaPhOR_1.9.0.tar.gz /Library/Frameworks/R.framework/Resources/bin/R MetaPhOR.buildbin-libdir StartedAt: 2025-02-04 22:22:14 -0500 (Tue, 04 Feb 2025) EndedAt: 2025-02-04 22:22:26 -0500 (Tue, 04 Feb 2025) EllapsedTime: 11.2 seconds RetCode: 0 Status: OK PackageFile: MetaPhOR_1.9.0.tgz PackageFileSize: 2.771 MiB