Package: MetaPhOR Version: 1.9.0 Command: /Library/Frameworks/R.framework/Resources/bin/R CMD check --install=check:MetaPhOR.install-out.txt --library=/Library/Frameworks/R.framework/Resources/library --no-vignettes --timings MetaPhOR_1.9.0.tar.gz StartedAt: 2025-02-04 20:02:18 -0500 (Tue, 04 Feb 2025) EndedAt: 2025-02-04 20:06:20 -0500 (Tue, 04 Feb 2025) EllapsedTime: 241.7 seconds RetCode: 0 Status: OK CheckDir: MetaPhOR.Rcheck Warnings: 0