Package: MetaPhOR Version: 1.9.0 Command: /Library/Frameworks/R.framework/Resources/bin/R CMD INSTALL MetaPhOR StartedAt: 2025-02-04 15:24:00 -0500 (Tue, 04 Feb 2025) EndedAt: 2025-02-04 15:24:10 -0500 (Tue, 04 Feb 2025) EllapsedTime: 9.8 seconds RetCode: 0 Status: OK