Package: MetaPhOR Version: 1.9.0 Command: /home/biocbuild/R/R/bin/R CMD build --keep-empty-dirs --no-resave-data MetaPhOR StartedAt: 2025-01-29 00:09:34 -0000 (Wed, 29 Jan 2025) EndedAt: 2025-01-29 00:28:48 -0000 (Wed, 29 Jan 2025) EllapsedTime: 1153.5 seconds RetCode: 0 Status: OK PackageFile: MetaPhOR_1.9.0.tar.gz PackageFileSize: 2.17 MiB