Package: MetaPhOR Version: 1.9.0 Command: /home/biocbuild/R/R/bin/R CMD INSTALL MetaPhOR StartedAt: 2025-01-29 20:25:22 -0000 (Wed, 29 Jan 2025) EndedAt: 2025-01-29 20:25:55 -0000 (Wed, 29 Jan 2025) EllapsedTime: 32.7 seconds RetCode: 0 Status: OK