Package: MetaPhOR Version: 1.9.0 Command: /Library/Frameworks/R.framework/Resources/bin/R CMD INSTALL MetaPhOR StartedAt: 2025-02-09 15:37:50 -0500 (Sun, 09 Feb 2025) EndedAt: 2025-02-09 15:38:24 -0500 (Sun, 09 Feb 2025) EllapsedTime: 33.9 seconds RetCode: 0 Status: OK