Package: MetaboAnnotation Version: 1.11.1 Command: /Library/Frameworks/R.framework/Resources/bin/R CMD build --keep-empty-dirs --no-resave-data MetaboAnnotation StartedAt: 2025-02-09 16:50:58 -0500 (Sun, 09 Feb 2025) EndedAt: 2025-02-09 16:51:39 -0500 (Sun, 09 Feb 2025) EllapsedTime: 41.5 seconds RetCode: 0 Status: OK PackageFile: MetaboAnnotation_1.11.1.tar.gz PackageFileSize: 1.25 MiB