Package: MetaboAnnotation Version: 1.11.1 Command: /home/biocbuild/R/R/bin/R CMD build --keep-empty-dirs --no-resave-data MetaboAnnotation StartedAt: 2025-01-29 00:07:49 -0000 (Wed, 29 Jan 2025) EndedAt: 2025-01-29 00:09:48 -0000 (Wed, 29 Jan 2025) EllapsedTime: 119.0 seconds RetCode: 1 Status: ERROR PackageFile: None PackageFileSize: NA