Package: MetaboAnnotation Version: 1.11.1 Command: /home/biocbuild/R/R/bin/R CMD INSTALL MetaboAnnotation StartedAt: 2025-01-29 20:31:14 -0000 (Wed, 29 Jan 2025) EndedAt: 2025-01-29 20:32:10 -0000 (Wed, 29 Jan 2025) EllapsedTime: 56.2 seconds RetCode: 0 Status: OK