Package: MetaboAnnotation Version: 1.11.1 Command: /Library/Frameworks/R.framework/Resources/bin/R CMD build --keep-empty-dirs --no-resave-data MetaboAnnotation StartedAt: 2025-02-04 17:16:30 -0500 (Tue, 04 Feb 2025) EndedAt: 2025-02-04 17:18:21 -0500 (Tue, 04 Feb 2025) EllapsedTime: 110.8 seconds RetCode: 0 Status: OK PackageFile: MetaboAnnotation_1.11.1.tar.gz PackageFileSize: 1.249 MiB