Package: MetaboAnnotation Version: 1.11.1 Command: /Library/Frameworks/R.framework/Resources/bin/R CMD INSTALL MetaboAnnotation StartedAt: 2025-02-09 15:40:48 -0500 (Sun, 09 Feb 2025) EndedAt: 2025-02-09 15:41:42 -0500 (Sun, 09 Feb 2025) EllapsedTime: 54.4 seconds RetCode: 0 Status: OK