Package: MetaboAnnotation Version: 1.11.1 Command: /home/biocbuild/bbs-3.21-bioc/R/bin/R CMD check --install=check:MetaboAnnotation.install-out.txt --library=/home/biocbuild/bbs-3.21-bioc/R/site-library --timings MetaboAnnotation_1.11.1.tar.gz StartedAt: 2025-02-04 23:55:09 -0500 (Tue, 04 Feb 2025) EndedAt: 2025-02-05 00:00:47 -0500 (Wed, 05 Feb 2025) EllapsedTime: 337.4 seconds RetCode: 0 Status: OK CheckDir: MetaboAnnotation.Rcheck Warnings: 0