Package: MetaboAnnotation Version: 1.11.1 Command: /home/biocbuild/bbs-3.21-bioc/R/bin/R CMD INSTALL MetaboAnnotation StartedAt: 2025-02-04 15:32:39 -0500 (Tue, 04 Feb 2025) EndedAt: 2025-02-04 15:33:19 -0500 (Tue, 04 Feb 2025) EllapsedTime: 40.7 seconds RetCode: 0 Status: OK