Package: MetaboAnnotation Version: 1.11.1 Command: chmod a+r MetaboAnnotation -R && E:\biocbuild\bbs-3.21-bioc\R\bin\R.exe CMD build --keep-empty-dirs --no-resave-data MetaboAnnotation StartedAt: 2025-02-09 19:45:04 -0500 (Sun, 09 Feb 2025) EndedAt: 2025-02-09 19:47:25 -0500 (Sun, 09 Feb 2025) EllapsedTime: 140.2 seconds RetCode: 0 Status: OK PackageFile: MetaboAnnotation_1.11.1.tar.gz PackageFileSize: 1.185 MiB