Package: MetaboAnnotation Version: 1.11.1 Command: E:\biocbuild\bbs-3.21-bioc\R\bin\R.exe CMD check --no-multiarch --install=check:MetaboAnnotation.install-out.txt --library=E:\biocbuild\bbs-3.21-bioc\R\library --no-vignettes --timings MetaboAnnotation_1.11.1.tar.gz StartedAt: 2025-02-05 03:08:47 -0500 (Wed, 05 Feb 2025) EndedAt: 2025-02-05 03:15:38 -0500 (Wed, 05 Feb 2025) EllapsedTime: 411.6 seconds RetCode: 0 Status: OK CheckDir: MetaboAnnotation.Rcheck Warnings: 0