Package: MetaboCoreUtils Version: 1.15.0 Command: /Library/Frameworks/R.framework/Resources/bin/R CMD check --install=check:MetaboCoreUtils.install-out.txt --library=/Library/Frameworks/R.framework/Resources/library --no-vignettes --timings MetaboCoreUtils_1.15.0.tar.gz StartedAt: 2025-02-09 19:59:44 -0500 (Sun, 09 Feb 2025) EndedAt: 2025-02-09 20:00:08 -0500 (Sun, 09 Feb 2025) EllapsedTime: 24.3 seconds RetCode: 0 Status: OK CheckDir: MetaboCoreUtils.Rcheck Warnings: 0