Package: MetaboCoreUtils Version: 1.15.0 Command: rm -rf MetaboCoreUtils.buildbin-libdir && mkdir MetaboCoreUtils.buildbin-libdir && E:\biocbuild\bbs-3.21-bioc\R\bin\R.exe CMD INSTALL --build --library=MetaboCoreUtils.buildbin-libdir MetaboCoreUtils_1.15.0.tar.gz StartedAt: 2025-02-13 08:17:14 -0500 (Thu, 13 Feb 2025) EndedAt: 2025-02-13 08:18:10 -0500 (Thu, 13 Feb 2025) EllapsedTime: 55.6 seconds RetCode: 0 Status: OK PackageFile: MetaboCoreUtils_1.15.0.zip PackageFileSize: 795.1 KiB