Package: MetaboDynamics Version: 0.99.18 Command: /Library/Frameworks/R.framework/Resources/bin/R CMD INSTALL MetaboDynamics StartedAt: 2025-02-04 15:06:24 -0500 (Tue, 04 Feb 2025) EndedAt: 2025-02-04 15:07:20 -0500 (Tue, 04 Feb 2025) EllapsedTime: 56.0 seconds RetCode: 0 Status: OK