Package: MetaboDynamics Version: 0.99.18 Command: /home/biocbuild/bbs-3.21-bioc/R/bin/R CMD check --install=check:MetaboDynamics.install-out.txt --library=/home/biocbuild/bbs-3.21-bioc/R/site-library --timings MetaboDynamics_0.99.18.tar.gz StartedAt: 2025-02-09 23:55:07 -0500 (Sun, 09 Feb 2025) EndedAt: 2025-02-10 00:03:37 -0500 (Mon, 10 Feb 2025) EllapsedTime: 509.7 seconds RetCode: 0 Status: OK CheckDir: MetaboDynamics.Rcheck Warnings: 0