Package: MetaboDynamics Version: 0.99.18 Command: /home/biocbuild/bbs-3.21-bioc/R/bin/R CMD INSTALL MetaboDynamics StartedAt: 2025-02-09 15:24:33 -0500 (Sun, 09 Feb 2025) EndedAt: 2025-02-09 15:28:05 -0500 (Sun, 09 Feb 2025) EllapsedTime: 211.7 seconds RetCode: 0 Status: OK